BEGIN:VCALENDAR
VERSION:2.0
PRODID:-//Shoppes At The Farm - ECPv6.15.2//NONSGML v1.0//EN
CALSCALE:GREGORIAN
METHOD:PUBLISH
X-ORIGINAL-URL:https://shoppesatthefarm.com
X-WR-CALDESC:Events for Shoppes At The Farm
REFRESH-INTERVAL;VALUE=DURATION:PT1H
X-Robots-Tag:noindex
X-PUBLISHED-TTL:PT1H
BEGIN:VTIMEZONE
TZID:America/New_York
BEGIN:DAYLIGHT
TZOFFSETFROM:-0500
TZOFFSETTO:-0400
TZNAME:EDT
DTSTART:20260308T070000
END:DAYLIGHT
BEGIN:STANDARD
TZOFFSETFROM:-0400
TZOFFSETTO:-0500
TZNAME:EST
DTSTART:20261101T060000
END:STANDARD
END:VTIMEZONE
BEGIN:VEVENT
DTSTART;TZID=America/New_York:20260312T190000
DTEND;TZID=America/New_York:20260312T210000
DTSTAMP:20260422T155418
CREATED:20260117T122615Z
LAST-MODIFIED:20260201T032259Z
UID:10000086-1773342000-1773349200@shoppesatthefarm.com
SUMMARY:Country Line Dance Instruction
DESCRIPTION:[vc_row][vc_column][vc_column_text css=””] \n\nDust off your boots and get ready to scoot!\nHave you always wanted to try line dancing but felt a little shy or unsure where to begin?\nThis is your chance! Join us for an evening of fun and learning at the Brass Knob Tavern located at Shoppes at the Farm. \nNo experience necessary! Our instructor will guide you through all the essential steps to popular country line dances. \nHere’s what you can expect:\n\nLearn the basics: Master the fundamental footwork and techniques of line dancing.\nGroove to the music: Enjoy a night of fun exercise set to your favorite country tunes.\nMeet new people: Bond with fellow dancers and share your love for country music and dance.\n\nWhether you’re a complete beginner or looking to brush up on your skills\, this event is for you!\nDon’t miss out on this exciting opportunity to:\n\nGrab your boots and have some fun!\nLearn new dance moves.\nGet some exercise in a social setting.\nMeet other country music enthusiasts.\n\nEvent Details:\n\nTime: 07:00pm – 9:00pm\nTickets: $15 at the door\nLocation: Brass Knob Tavern at Shoppes at the Farm\n\nGet ready to line dance the night away!\n[/vc_column_text][/vc_column][/vc_row]
URL:https://shoppesatthefarm.com/event/country-line-dance-instruction-2/2026-03-12/
LOCATION:The Brass Knob\, 667 US-22 East\,\, Whitehouse Station\, NJ\, 08889\, United States
CATEGORIES:Family Fun Events,Shoppes At The Farm Events
ATTACH;FMTTYPE=image/jpeg:https://shoppesatthefarm.com/wp-content/uploads/2024/03/Depositphotos_438793400_XL-scaled.jpg
END:VEVENT
BEGIN:VEVENT
DTSTART;TZID=America/New_York:20260314T170000
DTEND;TZID=America/New_York:20260314T220000
DTSTAMP:20260422T155419
CREATED:20260117T125916Z
LAST-MODIFIED:20260201T033541Z
UID:10000079-1773507600-1773525600@shoppesatthefarm.com
SUMMARY:Country Line Dancing!
DESCRIPTION:[vc_row][vc_column][vc_column_text css=””] \nCome on down and kick up your heels!\nJoin us for an evening of dance\, music and fun at The Brass Knob Tavern located at Shoppes at the Farm! \nEnjoy our: \n\nBeautiful\, new venue\nEasy\, safe parking\nLarge\, open dance floor\n\nThe most popular DJs and instructors! \n\n\nCash bar and limited food menu\n\nGrab your hat and slip on your boots! It’s time to dance!\nLearn: Come early to take advantage of our instruction hour\, dedicated to beginners. \nPractice: Dances taught during the first hour will be called throughout the evening. \nEnjoy: Everyone on the dance floor for open dance! \n  \nHave you always wanted to try line dancing but need a little help?\nCome to our beginner hour for extra instruction and learn the dances that will be danced throughout the evening. \nHere’s what you can expect: \n\nLearn the basics:Master the fundamental footwork and techniques of line dancing during our dedicated beginner’s hour.\nNo experience necessary: Our instructor will guide you through all the essential steps to popular country line dances.\nGroove to the music:Enjoy a night of fun exercise set to your favorite country tunes.\nMeet new people: Bond with fellow dancers and share your love for country music and dance.\n\nDon’t miss out on this exciting opportunity to: \n\nLearn new dance moves.\nGet some exercise in a social setting.\nMeet other country music enthusiasts.\nListen to good music played by the most popular DJs!\n\nEvent Details: \n\nBeginner’s Instruction Time: 5:00pm – 6:00pm\nOpen dance for everyone: 6:00pm – 10:00pm\nLocation: Brass Knob Tavern at Shoppes at the Farm\nTickets: $15 at the door\n\n[/vc_column_text][/vc_column][/vc_row]
URL:https://shoppesatthefarm.com/event/country-line-dance/
LOCATION:The Brass Knob\, 667 US-22 East\,\, Whitehouse Station\, NJ\, 08889\, United States
CATEGORIES:Shoppes At The Farm Events
ATTACH;FMTTYPE=image/png:https://shoppesatthefarm.com/wp-content/uploads/2024/01/Country-Line-Dancing-Event.png
END:VEVENT
END:VCALENDAR